BEGIN:VCALENDAR
VERSION:2.0
PRODID:-//Vehicle Technology Centre - ECPv6.15.20//NONSGML v1.0//EN
CALSCALE:GREGORIAN
METHOD:PUBLISH
X-WR-CALNAME:Vehicle Technology Centre
X-ORIGINAL-URL:https://vtci.ca
X-WR-CALDESC:Events for Vehicle Technology Centre
REFRESH-INTERVAL;VALUE=DURATION:PT1H
X-Robots-Tag:noindex
X-PUBLISHED-TTL:PT1H
BEGIN:VTIMEZONE
TZID:America/Winnipeg
BEGIN:DAYLIGHT
TZOFFSETFROM:-0600
TZOFFSETTO:-0500
TZNAME:CDT
DTSTART:20250309T080000
END:DAYLIGHT
BEGIN:STANDARD
TZOFFSETFROM:-0500
TZOFFSETTO:-0600
TZNAME:CST
DTSTART:20251102T070000
END:STANDARD
BEGIN:DAYLIGHT
TZOFFSETFROM:-0600
TZOFFSETTO:-0500
TZNAME:CDT
DTSTART:20260308T080000
END:DAYLIGHT
BEGIN:STANDARD
TZOFFSETFROM:-0500
TZOFFSETTO:-0600
TZNAME:CST
DTSTART:20261101T070000
END:STANDARD
BEGIN:DAYLIGHT
TZOFFSETFROM:-0600
TZOFFSETTO:-0500
TZNAME:CDT
DTSTART:20270314T080000
END:DAYLIGHT
BEGIN:STANDARD
TZOFFSETFROM:-0500
TZOFFSETTO:-0600
TZNAME:CST
DTSTART:20271107T070000
END:STANDARD
END:VTIMEZONE
BEGIN:VEVENT
DTSTART;TZID=America/Winnipeg:20260418T080000
DTEND;TZID=America/Winnipeg:20260424T170000
DTSTAMP:20260422T080122
CREATED:20260205T143046Z
LAST-MODIFIED:20260205T143046Z
UID:2227-1776499200-1777050000@vtci.ca
SUMMARY:VTC Hosted Technical Mission Trip to the Hannover Messe Digital Manufacturing Show - Hannover Germany - April 18-24\, 2026
DESCRIPTION:The future of digital manufacturing on display!!!!  The VTC is gauging interest to assemble a group mission to the Hannover Messe.  This show is s great 5 year window into coming advancements in digital manufacturing.  I find this a great opportunity to see what is on the horizons and consider the possibilities for our manufacturing plants here in Canada \nThe show boast 123\,000 visitors from 150 countries and is about 15 times the size of the Winnipeg convention centre.  It has over 1800 exhibit displays. \nVTC will book hotels\, evening dinners and coordinate all in Germany transportation to make the show easy to navigate.  For more information go the the Hannover Messe website at hannovermesse.de/en \nThe VTC has support funds available to Heavy Equipment and Vehicle OEM manufacturers from Manitoba to offset 505 of the travel costs. \nContact Ron at rvanderwees@vtci.ca if you would like more information about attending.  We need a minimum amount of attendees before committing to this trip
URL:https://vtci.ca/event/vtc-hosted-technical-mission-trip-to-the-hannover-messe-digital-manufacturing-show-hannover-germany-april-18-24-2026/
ATTACH;FMTTYPE=image/webp:https://vtci.ca/wp-content/uploads/2026/02/Messe.webp
ORGANIZER;CN="Vehicle Technology Centre":MAILTO:info@vtc.ca
END:VEVENT
BEGIN:VEVENT
DTSTART;TZID=America/Winnipeg:20260503T080000
DTEND;TZID=America/Winnipeg:20260507T170000
DTSTAMP:20260422T080122
CREATED:20260205T145338Z
LAST-MODIFIED:20260321T155502Z
UID:2233-1777795200-1778173200@vtci.ca
SUMMARY:VTC Mission Trip to Advanced Clean Technology Expo in Las Vegas
DESCRIPTION:This will be the second time the VTC will be hosting a mission trip to this event that showcases advances in clean technology in commercial on road fleet equipment.   One participant from last years trip who is deeply knowledgeable about battery electrification commented that this was one of the best technology conferences he had been to. \nLarge fleet companies and truck manufacturers will be sharing their future plans in the area of clean technology and what that looks like at fleet scale.  There will be 300 speakers including major truck OEM’s\, 200 advanced commercial vehicles represented\, 500 exhibitors all focused on the path to clean technology for commercial vehicles. \nThis trip roster is full\, stay tuned for info about future technical mission trips.
URL:https://vtci.ca/event/vtc-mission-trip-to-advanced-clean-technology-expo-in-las-vegas/
ATTACH;FMTTYPE=image/svg+xml:https://vtci.ca/wp-content/uploads/2026/02/act-logo.svg
ORGANIZER;CN="Vehicle Technology Centre":MAILTO:info@vtc.ca
END:VEVENT
BEGIN:VEVENT
DTSTART;TZID=America/Winnipeg:20260520T130000
DTEND;TZID=America/Winnipeg:20260520T163000
DTSTAMP:20260422T080122
CREATED:20260205T144034Z
LAST-MODIFIED:20260324T140702Z
UID:2230-1779282000-1779294600@vtci.ca
SUMMARY:3rd Annual - Heavy Equipment and Vehicle Manufacturing - Academia Summit
DESCRIPTION:This year’s industry academia summit will be held at Red River College Polytech’s Notre Dame Campus on Tuesday May 20\, 2026\, Room GM 41 in the heart of the campus \nThis event brings together heavy equipment and vehicle research and development leaders and local academic researchers.  Industry will present on research needs that arise from their future product and process R&D plans and academics will present on their areas of research\, all with the goal of finding opportunities for industry academic collaboration. \nAfter the presentations \, we will have specific technology breakout rooms to allow deeper industry academia discussions. \nOptional tours of RRC-P Motive Lab and Smart Factory will be available \nParking is in Lot N1 on the east side of the campus and can be paid for using the Pay by Phone app. \n 
URL:https://vtci.ca/event/3rd-annual-heavy-equipment-and-vehicle-manufacturing-academia-summit/
LOCATION:Red River College Polytech\, 2055 Notre Dame Ave\, Winnipeg\, Manitoba\, R3H 0J9\, Canada
ATTACH;FMTTYPE=image/webp:https://vtci.ca/wp-content/uploads/2026/02/Industry-Academia.webp
ORGANIZER;CN="Vehicle Technology Centre":MAILTO:info@vtc.ca
END:VEVENT
END:VCALENDAR